BEGIN:VCALENDAR
VERSION:2.0
PRODID:-//demosphere.net//NONSGML kigkonsult.se iCalcreator 2.22.1//
METHOD:REQUEST
X-WR-TIMEZONE:Europe/Berlin
BEGIN:VEVENT
UID:https://safe.ffm.demosphere.net/event/12498
DTSTAMP:20260614T100000Z
DESCRIPTION:more info here: https://safe.ffm.demosphere.net/event/12498
DTSTART:20260614T100000Z
DTEND:20260614T110000Z
GEO:+50.123718;+8.641418
LOCATION:Frankfurt\, \nCafé Exzess\, Leipziger Str. 91\, 60487 Frankfurt
SUMMARY:Bücherflohmarkt
URL:https://safe.ffm.demosphere.net/event/12498
END:VEVENT
END:VCALENDAR
