BEGIN:VCALENDAR
VERSION:2.0
PRODID:-//demosphere.net//NONSGML kigkonsult.se iCalcreator 2.22.1//
METHOD:REQUEST
X-WR-TIMEZONE:Europe/Berlin
BEGIN:VEVENT
UID:https://safe.ffm.demosphere.net/event/12500
DTSTAMP:20260501T070000Z
DESCRIPTION:more info here: https://safe.ffm.demosphere.net/event/12500
DTSTART:20260501T070000Z
DTEND:20260501T080000Z
GEO:+50.140677;+8.699128
LOCATION:Frankfurt\, \nFriedberger Warte\, Tegut Parkplatz
SUMMARY:Motorradausfahrt 1.Mai
URL:https://safe.ffm.demosphere.net/event/12500
END:VEVENT
END:VCALENDAR
