BEGIN:VCALENDAR
VERSION:2.0
PRODID:-//demosphere.net//NONSGML kigkonsult.se iCalcreator 2.22.1//
METHOD:REQUEST
X-WR-TIMEZONE:Europe/Berlin
BEGIN:VEVENT
UID:https://safe.ffm.demosphere.net/event/12501
DTSTAMP:20260607T080000Z
DESCRIPTION:more info here: https://safe.ffm.demosphere.net/event/12501
DTSTART:20260607T080000Z
DTEND:20260607T090000Z
GEO:+50.215553;+8.535713
LOCATION:Oberursel\, \nHohemarkstraße 192\, 61440 Oberursel (Taunus) Parkpl
 atz
SUMMARY:Motorradtour zur Gedenkstätte Hadamar
URL:https://safe.ffm.demosphere.net/event/12501
END:VEVENT
END:VCALENDAR
