BEGIN:VCALENDAR
VERSION:2.0
PRODID:-//demosphere.net//NONSGML kigkonsult.se iCalcreator 2.22.1//
METHOD:REQUEST
X-WR-TIMEZONE:Europe/Berlin
BEGIN:VEVENT
UID:https://safe.ffm.demosphere.net/event/12502
DTSTAMP:20260913T070000Z
DESCRIPTION:more info here: https://safe.ffm.demosphere.net/event/12502
DTSTART:20260913T070000Z
DTEND:20260913T080000Z
GEO:+50.140677;+8.699128
LOCATION:Frankfurt\, \nFriedberger Warte\, Parkplatz\, Frankfurt
SUMMARY:Motorradtour nach Hirzenhain am Gedenktag der Opfer des Faschismus
URL:https://safe.ffm.demosphere.net/event/12502
END:VEVENT
END:VCALENDAR
